BEGIN:VCALENDAR
VERSION:2.0
PRODID:-//CityKids - ECPv6.10.3//NONSGML v1.0//EN
CALSCALE:GREGORIAN
METHOD:PUBLISH
X-WR-CALNAME:CityKids
X-ORIGINAL-URL:https://tlvcitykids.co.il
X-WR-CALDESC:Events for CityKids
REFRESH-INTERVAL;VALUE=DURATION:PT1H
X-Robots-Tag:noindex
X-PUBLISHED-TTL:PT1H
BEGIN:VTIMEZONE
TZID:Asia/Jerusalem
BEGIN:DAYLIGHT
TZOFFSETFROM:+0200
TZOFFSETTO:+0300
TZNAME:IDT
DTSTART:20240329T000000
END:DAYLIGHT
BEGIN:STANDARD
TZOFFSETFROM:+0300
TZOFFSETTO:+0200
TZNAME:IST
DTSTART:20241026T230000
END:STANDARD
END:VTIMEZONE
BEGIN:VEVENT
DTSTART;TZID=Asia/Jerusalem:20240729T164500
DTEND;TZID=Asia/Jerusalem:20240729T173000
DTSTAMP:20260419T233449
CREATED:20240620T072828Z
LAST-MODIFIED:20240620T072828Z
UID:10000521-1722271500-1722274200@tlvcitykids.co.il
SUMMARY:Read and Succeed
DESCRIPTION:Ages 7-9\nMondays at 16:45- 17:30  \nThis class will focus on reading fluency\, advanced phonics and comprehension. Children will learn creative writing and hone up their grammar skills while being exposed to a range of stories. Lessons include drama games\, oral response and a whole lot of creativity.  \nJuly 1st\, 8th\, 15th\, 22nd\, 29th\nSign up HERE
URL:https://tlvcitykids.co.il/event/read-and-succeed/2024-07-29/
LOCATION:CityKids\, Ibn Gvirol 188\, Tel Aviv\, Israel
ATTACH;FMTTYPE=image/jpeg:https://tlvcitykids.co.il/wp-content/uploads/2024/06/5198d305-5bda-857d-f91f-d90f944cf5fa-2.jpg
ORGANIZER;CN="tlvcitykids":MAILTO:programs@tlvcitykids.co.il
END:VEVENT
BEGIN:VEVENT
DTSTART;TZID=Asia/Jerusalem:20240729T164500
DTEND;TZID=Asia/Jerusalem:20240729T173000
DTSTAMP:20260419T233449
CREATED:20240620T072019Z
LAST-MODIFIED:20240620T072019Z
UID:10000505-1722271500-1722274200@tlvcitykids.co.il
SUMMARY:Little EFL
DESCRIPTION:Ages 4-6 | English for Hebrew Speakers\nMondays at 16:45- 17:30  \nLooking to learn English this summer!? Our Little EFL students will learn English through games\, movement\, song and play throughout the 5 week class.  \nJuly 1st\, 8th\, 15th\, 22nd\, 29th\nSign up HERE
URL:https://tlvcitykids.co.il/event/little-efl/2024-07-29/
LOCATION:CityKids\, Ibn Gvirol 188\, Tel Aviv\, Israel
ATTACH;FMTTYPE=image/jpeg:https://tlvcitykids.co.il/wp-content/uploads/2024/06/ab5cfdd0-bc85-472d-9585-8e6e3595367a.jpg
ORGANIZER;CN="tlvcitykids":MAILTO:programs@tlvcitykids.co.il
END:VEVENT
BEGIN:VEVENT
DTSTART;TZID=Asia/Jerusalem:20240729T164500
DTEND;TZID=Asia/Jerusalem:20240729T173000
DTSTAMP:20260419T233449
CREATED:20240620T071732Z
LAST-MODIFIED:20240620T072040Z
UID:10000448-1722271500-1722274200@tlvcitykids.co.il
SUMMARY:ABC Adventures
DESCRIPTION:ABC Adventures\nAges 3.5-5\nMondays at 16:45- 17:30  \nJoin us for a hybrid English and art course that gives children a multi-sensory experience of learning the alphabet! Students gain awareness of letter shapes and sounds through songs\, games\, stories and art projects.  \nJuly 1st\, 8th\, 15th\, 22nd\, 29th\nSign up HERE
URL:https://tlvcitykids.co.il/event/abc-adventures/2024-07-29/
LOCATION:CityKids\, Ibn Gvirol 188\, Tel Aviv\, Israel
ATTACH;FMTTYPE=image/jpeg:https://tlvcitykids.co.il/wp-content/uploads/2024/06/5fc5a138-faa7-eb93-2ebc-52efb2bb1e37-2-scaled.jpg
ORGANIZER;CN="tlvcitykids":MAILTO:programs@tlvcitykids.co.il
END:VEVENT
BEGIN:VEVENT
DTSTART;TZID=Asia/Jerusalem:20240724T164500
DTEND;TZID=Asia/Jerusalem:20240724T173000
DTSTAMP:20260419T233449
CREATED:20240623T123853Z
LAST-MODIFIED:20240703T113356Z
UID:10000530-1721839500-1721842200@tlvcitykids.co.il
SUMMARY:Fun with Phonics
DESCRIPTION:Fun with Phonics | Ages 5-7\nWednesdays at 16:45- 17:30\nSOLD OUT \nThis class will cover complex phonics blends and vowel sounds to sharpen their reading and writing skills. Using art\, games\, stories all while having fun\, they will focus on reading and writing simple sentences.  \nJuly 3rd\, 10th\, 17th\, 24th\, 31st\nSign up HERE
URL:https://tlvcitykids.co.il/event/fun-with-phonics/2024-07-24/
LOCATION:CityKids\, Ibn Gvirol 188\, Tel Aviv\, Israel
ATTACH;FMTTYPE=image/jpeg:https://tlvcitykids.co.il/wp-content/uploads/2024/06/3b62731e-eeab-0152-504c-91122b0ece10-2-scaled.jpg
ORGANIZER;CN="tlvcitykids":MAILTO:programs@tlvcitykids.co.il
END:VEVENT
BEGIN:VEVENT
DTSTART;TZID=Asia/Jerusalem:20240724T164500
DTEND;TZID=Asia/Jerusalem:20240724T173000
DTSTAMP:20260419T233449
CREATED:20240620T073124Z
LAST-MODIFIED:20240623T110522Z
UID:10000525-1721839500-1721842200@tlvcitykids.co.il
SUMMARY:Music Makers
DESCRIPTION:Ages 2.5-4\nWednesdays at 16:45- 17:30  \nA fun-filled music class\, where little ones explore rhythm\, melody\, and movement through engaging songs and interactive activities designed to spark a lifelong love of music!” \nJuly 3rd\, 10th\, 17th\, 24th\, 31st\nSign up HERE
URL:https://tlvcitykids.co.il/event/music-makers/2024-07-24/
LOCATION:CityKids\, Ibn Gvirol 188\, Tel Aviv\, Israel
ATTACH;FMTTYPE=image/jpeg:https://tlvcitykids.co.il/wp-content/uploads/2024/06/ec5bf4ea-b8fa-851e-fc59-d0ca1ce8b801-2.jpg
ORGANIZER;CN="tlvcitykids":MAILTO:programs@tlvcitykids.co.il
END:VEVENT
BEGIN:VEVENT
DTSTART;TZID=Asia/Jerusalem:20240722T164500
DTEND;TZID=Asia/Jerusalem:20240722T173000
DTSTAMP:20260419T233449
CREATED:20240620T072828Z
LAST-MODIFIED:20240620T072828Z
UID:10000520-1721666700-1721669400@tlvcitykids.co.il
SUMMARY:Read and Succeed
DESCRIPTION:Ages 7-9\nMondays at 16:45- 17:30  \nThis class will focus on reading fluency\, advanced phonics and comprehension. Children will learn creative writing and hone up their grammar skills while being exposed to a range of stories. Lessons include drama games\, oral response and a whole lot of creativity.  \nJuly 1st\, 8th\, 15th\, 22nd\, 29th\nSign up HERE
URL:https://tlvcitykids.co.il/event/read-and-succeed/2024-07-22/
LOCATION:CityKids\, Ibn Gvirol 188\, Tel Aviv\, Israel
ATTACH;FMTTYPE=image/jpeg:https://tlvcitykids.co.il/wp-content/uploads/2024/06/5198d305-5bda-857d-f91f-d90f944cf5fa-2.jpg
ORGANIZER;CN="tlvcitykids":MAILTO:programs@tlvcitykids.co.il
END:VEVENT
BEGIN:VEVENT
DTSTART;TZID=Asia/Jerusalem:20240722T164500
DTEND;TZID=Asia/Jerusalem:20240722T173000
DTSTAMP:20260419T233449
CREATED:20240620T072019Z
LAST-MODIFIED:20240620T072019Z
UID:10000504-1721666700-1721669400@tlvcitykids.co.il
SUMMARY:Little EFL
DESCRIPTION:Ages 4-6 | English for Hebrew Speakers\nMondays at 16:45- 17:30  \nLooking to learn English this summer!? Our Little EFL students will learn English through games\, movement\, song and play throughout the 5 week class.  \nJuly 1st\, 8th\, 15th\, 22nd\, 29th\nSign up HERE
URL:https://tlvcitykids.co.il/event/little-efl/2024-07-22/
LOCATION:CityKids\, Ibn Gvirol 188\, Tel Aviv\, Israel
ATTACH;FMTTYPE=image/jpeg:https://tlvcitykids.co.il/wp-content/uploads/2024/06/ab5cfdd0-bc85-472d-9585-8e6e3595367a.jpg
ORGANIZER;CN="tlvcitykids":MAILTO:programs@tlvcitykids.co.il
END:VEVENT
BEGIN:VEVENT
DTSTART;TZID=Asia/Jerusalem:20240722T164500
DTEND;TZID=Asia/Jerusalem:20240722T173000
DTSTAMP:20260419T233449
CREATED:20240620T071732Z
LAST-MODIFIED:20240620T072040Z
UID:10000447-1721666700-1721669400@tlvcitykids.co.il
SUMMARY:ABC Adventures
DESCRIPTION:ABC Adventures\nAges 3.5-5\nMondays at 16:45- 17:30  \nJoin us for a hybrid English and art course that gives children a multi-sensory experience of learning the alphabet! Students gain awareness of letter shapes and sounds through songs\, games\, stories and art projects.  \nJuly 1st\, 8th\, 15th\, 22nd\, 29th\nSign up HERE
URL:https://tlvcitykids.co.il/event/abc-adventures/2024-07-22/
LOCATION:CityKids\, Ibn Gvirol 188\, Tel Aviv\, Israel
ATTACH;FMTTYPE=image/jpeg:https://tlvcitykids.co.il/wp-content/uploads/2024/06/5fc5a138-faa7-eb93-2ebc-52efb2bb1e37-2-scaled.jpg
ORGANIZER;CN="tlvcitykids":MAILTO:programs@tlvcitykids.co.il
END:VEVENT
BEGIN:VEVENT
DTSTART;TZID=Asia/Jerusalem:20240717T164500
DTEND;TZID=Asia/Jerusalem:20240717T173000
DTSTAMP:20260419T233449
CREATED:20240703T115451Z
LAST-MODIFIED:20240703T115711Z
UID:10000539-1721234700-1721237400@tlvcitykids.co.il
SUMMARY:Mess it Up! Sensory Play (1-3 yrs)
DESCRIPTION:Expose your child to the world of sensory play. Together you will squish\, mix colors\, mush and smear. Children and caregivers will use all their senses to explore different materials\, tools and supplies. \n70nis/child \nTo register click HERE
URL:https://tlvcitykids.co.il/event/mess-it-up-sensory-play-1-3-yrs/
LOCATION:CityKids\, Ibn Gvirol 188\, Tel Aviv\, Israel
ATTACH;FMTTYPE=image/jpeg:https://tlvcitykids.co.il/wp-content/uploads/2024/04/2.jpg
ORGANIZER;CN="tlvcitykids":MAILTO:programs@tlvcitykids.co.il
END:VEVENT
BEGIN:VEVENT
DTSTART;TZID=Asia/Jerusalem:20240717T164500
DTEND;TZID=Asia/Jerusalem:20240717T173000
DTSTAMP:20260419T233449
CREATED:20240623T123853Z
LAST-MODIFIED:20240703T113356Z
UID:10000529-1721234700-1721237400@tlvcitykids.co.il
SUMMARY:Fun with Phonics
DESCRIPTION:Fun with Phonics | Ages 5-7\nWednesdays at 16:45- 17:30\nSOLD OUT \nThis class will cover complex phonics blends and vowel sounds to sharpen their reading and writing skills. Using art\, games\, stories all while having fun\, they will focus on reading and writing simple sentences.  \nJuly 3rd\, 10th\, 17th\, 24th\, 31st\nSign up HERE
URL:https://tlvcitykids.co.il/event/fun-with-phonics/2024-07-17/
LOCATION:CityKids\, Ibn Gvirol 188\, Tel Aviv\, Israel
ATTACH;FMTTYPE=image/jpeg:https://tlvcitykids.co.il/wp-content/uploads/2024/06/3b62731e-eeab-0152-504c-91122b0ece10-2-scaled.jpg
ORGANIZER;CN="tlvcitykids":MAILTO:programs@tlvcitykids.co.il
END:VEVENT
BEGIN:VEVENT
DTSTART;TZID=Asia/Jerusalem:20240717T164500
DTEND;TZID=Asia/Jerusalem:20240717T173000
DTSTAMP:20260419T233449
CREATED:20240620T073124Z
LAST-MODIFIED:20240623T110522Z
UID:10000524-1721234700-1721237400@tlvcitykids.co.il
SUMMARY:Music Makers
DESCRIPTION:Ages 2.5-4\nWednesdays at 16:45- 17:30  \nA fun-filled music class\, where little ones explore rhythm\, melody\, and movement through engaging songs and interactive activities designed to spark a lifelong love of music!” \nJuly 3rd\, 10th\, 17th\, 24th\, 31st\nSign up HERE
URL:https://tlvcitykids.co.il/event/music-makers/2024-07-17/
LOCATION:CityKids\, Ibn Gvirol 188\, Tel Aviv\, Israel
ATTACH;FMTTYPE=image/jpeg:https://tlvcitykids.co.il/wp-content/uploads/2024/06/ec5bf4ea-b8fa-851e-fc59-d0ca1ce8b801-2.jpg
ORGANIZER;CN="tlvcitykids":MAILTO:programs@tlvcitykids.co.il
END:VEVENT
BEGIN:VEVENT
DTSTART;TZID=Asia/Jerusalem:20240715T164500
DTEND;TZID=Asia/Jerusalem:20240715T173000
DTSTAMP:20260419T233449
CREATED:20240620T072828Z
LAST-MODIFIED:20240620T072828Z
UID:10000519-1721061900-1721064600@tlvcitykids.co.il
SUMMARY:Read and Succeed
DESCRIPTION:Ages 7-9\nMondays at 16:45- 17:30  \nThis class will focus on reading fluency\, advanced phonics and comprehension. Children will learn creative writing and hone up their grammar skills while being exposed to a range of stories. Lessons include drama games\, oral response and a whole lot of creativity.  \nJuly 1st\, 8th\, 15th\, 22nd\, 29th\nSign up HERE
URL:https://tlvcitykids.co.il/event/read-and-succeed/2024-07-15/
LOCATION:CityKids\, Ibn Gvirol 188\, Tel Aviv\, Israel
ATTACH;FMTTYPE=image/jpeg:https://tlvcitykids.co.il/wp-content/uploads/2024/06/5198d305-5bda-857d-f91f-d90f944cf5fa-2.jpg
ORGANIZER;CN="tlvcitykids":MAILTO:programs@tlvcitykids.co.il
END:VEVENT
BEGIN:VEVENT
DTSTART;TZID=Asia/Jerusalem:20240715T164500
DTEND;TZID=Asia/Jerusalem:20240715T173000
DTSTAMP:20260419T233449
CREATED:20240620T072019Z
LAST-MODIFIED:20240620T072019Z
UID:10000503-1721061900-1721064600@tlvcitykids.co.il
SUMMARY:Little EFL
DESCRIPTION:Ages 4-6 | English for Hebrew Speakers\nMondays at 16:45- 17:30  \nLooking to learn English this summer!? Our Little EFL students will learn English through games\, movement\, song and play throughout the 5 week class.  \nJuly 1st\, 8th\, 15th\, 22nd\, 29th\nSign up HERE
URL:https://tlvcitykids.co.il/event/little-efl/2024-07-15/
LOCATION:CityKids\, Ibn Gvirol 188\, Tel Aviv\, Israel
ATTACH;FMTTYPE=image/jpeg:https://tlvcitykids.co.il/wp-content/uploads/2024/06/ab5cfdd0-bc85-472d-9585-8e6e3595367a.jpg
ORGANIZER;CN="tlvcitykids":MAILTO:programs@tlvcitykids.co.il
END:VEVENT
BEGIN:VEVENT
DTSTART;TZID=Asia/Jerusalem:20240715T164500
DTEND;TZID=Asia/Jerusalem:20240715T173000
DTSTAMP:20260419T233449
CREATED:20240620T071732Z
LAST-MODIFIED:20240620T072040Z
UID:10000446-1721061900-1721064600@tlvcitykids.co.il
SUMMARY:ABC Adventures
DESCRIPTION:ABC Adventures\nAges 3.5-5\nMondays at 16:45- 17:30  \nJoin us for a hybrid English and art course that gives children a multi-sensory experience of learning the alphabet! Students gain awareness of letter shapes and sounds through songs\, games\, stories and art projects.  \nJuly 1st\, 8th\, 15th\, 22nd\, 29th\nSign up HERE
URL:https://tlvcitykids.co.il/event/abc-adventures/2024-07-15/
LOCATION:CityKids\, Ibn Gvirol 188\, Tel Aviv\, Israel
ATTACH;FMTTYPE=image/jpeg:https://tlvcitykids.co.il/wp-content/uploads/2024/06/5fc5a138-faa7-eb93-2ebc-52efb2bb1e37-2-scaled.jpg
ORGANIZER;CN="tlvcitykids":MAILTO:programs@tlvcitykids.co.il
END:VEVENT
BEGIN:VEVENT
DTSTART;TZID=Asia/Jerusalem:20240712T093000
DTEND;TZID=Asia/Jerusalem:20240712T104500
DTSTAMP:20260419T233449
CREATED:20240703T115043Z
LAST-MODIFIED:20240703T115236Z
UID:10000538-1720776600-1720781100@tlvcitykids.co.il
SUMMARY:RIE-Inspired Caregiver + Toddler Circle (12-24 months)
DESCRIPTION:Join CityKids and Ilanit Greenwald as we take the time to see our toddlers through new eyes and delve deeper into the key RIE-Inspired caregiving principles.\nThis Month’s Topic: Toilet Learning\n100nis \nTo register click HERE
URL:https://tlvcitykids.co.il/event/rie-inspired-caregiver-toddler-circle-12-24-months-3/
LOCATION:CityKids\, Ibn Gvirol 188\, Tel Aviv\, Israel
ATTACH;FMTTYPE=image/jpeg:https://tlvcitykids.co.il/wp-content/uploads/2024/04/1.jpg
ORGANIZER;CN="tlvcitykids":MAILTO:programs@tlvcitykids.co.il
END:VEVENT
BEGIN:VEVENT
DTSTART;TZID=Asia/Jerusalem:20240711T163000
DTEND;TZID=Asia/Jerusalem:20240711T181500
DTSTAMP:20260419T233449
CREATED:20240703T114819Z
LAST-MODIFIED:20240703T114819Z
UID:10000537-1720715400-1720721700@tlvcitykids.co.il
SUMMARY:Kid's Night Out (Movie + Pizza Night 4-10 years)
DESCRIPTION:Kid’s Night Out\n4-10 years\n16:30-18:15 \nKids are invited to watch a MOVIE on the CityKids BIG SCREEN and enjoy PIZZA while parents are free to do as they please! \n70nis/child \nTo register click HERE
URL:https://tlvcitykids.co.il/event/kids-night-out-movie-pizza-night-4-10-years/
LOCATION:CityKids\, Ibn Gvirol 188\, Tel Aviv\, Israel
ATTACH;FMTTYPE=image/png:https://tlvcitykids.co.il/wp-content/uploads/2024/07/Kids-night-out-21.png
ORGANIZER;CN="tlvcitykids":MAILTO:programs@tlvcitykids.co.il
END:VEVENT
BEGIN:VEVENT
DTSTART;TZID=Asia/Jerusalem:20240710T164500
DTEND;TZID=Asia/Jerusalem:20240710T173000
DTSTAMP:20260419T233449
CREATED:20240623T123853Z
LAST-MODIFIED:20240703T113356Z
UID:10000528-1720629900-1720632600@tlvcitykids.co.il
SUMMARY:Fun with Phonics
DESCRIPTION:Fun with Phonics | Ages 5-7\nWednesdays at 16:45- 17:30\nSOLD OUT \nThis class will cover complex phonics blends and vowel sounds to sharpen their reading and writing skills. Using art\, games\, stories all while having fun\, they will focus on reading and writing simple sentences.  \nJuly 3rd\, 10th\, 17th\, 24th\, 31st\nSign up HERE
URL:https://tlvcitykids.co.il/event/fun-with-phonics/2024-07-10/
LOCATION:CityKids\, Ibn Gvirol 188\, Tel Aviv\, Israel
ATTACH;FMTTYPE=image/jpeg:https://tlvcitykids.co.il/wp-content/uploads/2024/06/3b62731e-eeab-0152-504c-91122b0ece10-2-scaled.jpg
ORGANIZER;CN="tlvcitykids":MAILTO:programs@tlvcitykids.co.il
END:VEVENT
BEGIN:VEVENT
DTSTART;TZID=Asia/Jerusalem:20240710T164500
DTEND;TZID=Asia/Jerusalem:20240710T173000
DTSTAMP:20260419T233449
CREATED:20240620T073124Z
LAST-MODIFIED:20240623T110522Z
UID:10000523-1720629900-1720632600@tlvcitykids.co.il
SUMMARY:Music Makers
DESCRIPTION:Ages 2.5-4\nWednesdays at 16:45- 17:30  \nA fun-filled music class\, where little ones explore rhythm\, melody\, and movement through engaging songs and interactive activities designed to spark a lifelong love of music!” \nJuly 3rd\, 10th\, 17th\, 24th\, 31st\nSign up HERE
URL:https://tlvcitykids.co.il/event/music-makers/2024-07-10/
LOCATION:CityKids\, Ibn Gvirol 188\, Tel Aviv\, Israel
ATTACH;FMTTYPE=image/jpeg:https://tlvcitykids.co.il/wp-content/uploads/2024/06/ec5bf4ea-b8fa-851e-fc59-d0ca1ce8b801-2.jpg
ORGANIZER;CN="tlvcitykids":MAILTO:programs@tlvcitykids.co.il
END:VEVENT
BEGIN:VEVENT
DTSTART;TZID=Asia/Jerusalem:20240708T164500
DTEND;TZID=Asia/Jerusalem:20240708T173000
DTSTAMP:20260419T233449
CREATED:20240620T072828Z
LAST-MODIFIED:20240620T072828Z
UID:10000518-1720457100-1720459800@tlvcitykids.co.il
SUMMARY:Read and Succeed
DESCRIPTION:Ages 7-9\nMondays at 16:45- 17:30  \nThis class will focus on reading fluency\, advanced phonics and comprehension. Children will learn creative writing and hone up their grammar skills while being exposed to a range of stories. Lessons include drama games\, oral response and a whole lot of creativity.  \nJuly 1st\, 8th\, 15th\, 22nd\, 29th\nSign up HERE
URL:https://tlvcitykids.co.il/event/read-and-succeed/2024-07-08/
LOCATION:CityKids\, Ibn Gvirol 188\, Tel Aviv\, Israel
ATTACH;FMTTYPE=image/jpeg:https://tlvcitykids.co.il/wp-content/uploads/2024/06/5198d305-5bda-857d-f91f-d90f944cf5fa-2.jpg
ORGANIZER;CN="tlvcitykids":MAILTO:programs@tlvcitykids.co.il
END:VEVENT
BEGIN:VEVENT
DTSTART;TZID=Asia/Jerusalem:20240708T164500
DTEND;TZID=Asia/Jerusalem:20240708T173000
DTSTAMP:20260419T233449
CREATED:20240620T072019Z
LAST-MODIFIED:20240620T072019Z
UID:10000502-1720457100-1720459800@tlvcitykids.co.il
SUMMARY:Little EFL
DESCRIPTION:Ages 4-6 | English for Hebrew Speakers\nMondays at 16:45- 17:30  \nLooking to learn English this summer!? Our Little EFL students will learn English through games\, movement\, song and play throughout the 5 week class.  \nJuly 1st\, 8th\, 15th\, 22nd\, 29th\nSign up HERE
URL:https://tlvcitykids.co.il/event/little-efl/2024-07-08/
LOCATION:CityKids\, Ibn Gvirol 188\, Tel Aviv\, Israel
ATTACH;FMTTYPE=image/jpeg:https://tlvcitykids.co.il/wp-content/uploads/2024/06/ab5cfdd0-bc85-472d-9585-8e6e3595367a.jpg
ORGANIZER;CN="tlvcitykids":MAILTO:programs@tlvcitykids.co.il
END:VEVENT
BEGIN:VEVENT
DTSTART;TZID=Asia/Jerusalem:20240708T164500
DTEND;TZID=Asia/Jerusalem:20240708T173000
DTSTAMP:20260419T233449
CREATED:20240620T071732Z
LAST-MODIFIED:20240620T072040Z
UID:10000445-1720457100-1720459800@tlvcitykids.co.il
SUMMARY:ABC Adventures
DESCRIPTION:ABC Adventures\nAges 3.5-5\nMondays at 16:45- 17:30  \nJoin us for a hybrid English and art course that gives children a multi-sensory experience of learning the alphabet! Students gain awareness of letter shapes and sounds through songs\, games\, stories and art projects.  \nJuly 1st\, 8th\, 15th\, 22nd\, 29th\nSign up HERE
URL:https://tlvcitykids.co.il/event/abc-adventures/2024-07-08/
LOCATION:CityKids\, Ibn Gvirol 188\, Tel Aviv\, Israel
ATTACH;FMTTYPE=image/jpeg:https://tlvcitykids.co.il/wp-content/uploads/2024/06/5fc5a138-faa7-eb93-2ebc-52efb2bb1e37-2-scaled.jpg
ORGANIZER;CN="tlvcitykids":MAILTO:programs@tlvcitykids.co.il
END:VEVENT
BEGIN:VEVENT
DTSTART;TZID=Asia/Jerusalem:20240703T164500
DTEND;TZID=Asia/Jerusalem:20240703T173000
DTSTAMP:20260419T233449
CREATED:20240623T123853Z
LAST-MODIFIED:20240703T113356Z
UID:10000527-1720025100-1720027800@tlvcitykids.co.il
SUMMARY:Fun with Phonics
DESCRIPTION:Fun with Phonics | Ages 5-7\nWednesdays at 16:45- 17:30\nSOLD OUT \nThis class will cover complex phonics blends and vowel sounds to sharpen their reading and writing skills. Using art\, games\, stories all while having fun\, they will focus on reading and writing simple sentences.  \nJuly 3rd\, 10th\, 17th\, 24th\, 31st\nSign up HERE
URL:https://tlvcitykids.co.il/event/fun-with-phonics/2024-07-03/
LOCATION:CityKids\, Ibn Gvirol 188\, Tel Aviv\, Israel
ATTACH;FMTTYPE=image/jpeg:https://tlvcitykids.co.il/wp-content/uploads/2024/06/3b62731e-eeab-0152-504c-91122b0ece10-2-scaled.jpg
ORGANIZER;CN="tlvcitykids":MAILTO:programs@tlvcitykids.co.il
END:VEVENT
BEGIN:VEVENT
DTSTART;TZID=Asia/Jerusalem:20240703T164500
DTEND;TZID=Asia/Jerusalem:20240703T173000
DTSTAMP:20260419T233449
CREATED:20240620T073124Z
LAST-MODIFIED:20240623T110522Z
UID:10000522-1720025100-1720027800@tlvcitykids.co.il
SUMMARY:Music Makers
DESCRIPTION:Ages 2.5-4\nWednesdays at 16:45- 17:30  \nA fun-filled music class\, where little ones explore rhythm\, melody\, and movement through engaging songs and interactive activities designed to spark a lifelong love of music!” \nJuly 3rd\, 10th\, 17th\, 24th\, 31st\nSign up HERE
URL:https://tlvcitykids.co.il/event/music-makers/2024-07-03/
LOCATION:CityKids\, Ibn Gvirol 188\, Tel Aviv\, Israel
ATTACH;FMTTYPE=image/jpeg:https://tlvcitykids.co.il/wp-content/uploads/2024/06/ec5bf4ea-b8fa-851e-fc59-d0ca1ce8b801-2.jpg
ORGANIZER;CN="tlvcitykids":MAILTO:programs@tlvcitykids.co.il
END:VEVENT
BEGIN:VEVENT
DTSTART;TZID=Asia/Jerusalem:20240701T164500
DTEND;TZID=Asia/Jerusalem:20240701T173000
DTSTAMP:20260419T233449
CREATED:20240620T072828Z
LAST-MODIFIED:20240620T072828Z
UID:10000517-1719852300-1719855000@tlvcitykids.co.il
SUMMARY:Read and Succeed
DESCRIPTION:Ages 7-9\nMondays at 16:45- 17:30  \nThis class will focus on reading fluency\, advanced phonics and comprehension. Children will learn creative writing and hone up their grammar skills while being exposed to a range of stories. Lessons include drama games\, oral response and a whole lot of creativity.  \nJuly 1st\, 8th\, 15th\, 22nd\, 29th\nSign up HERE
URL:https://tlvcitykids.co.il/event/read-and-succeed/2024-07-01/
LOCATION:CityKids\, Ibn Gvirol 188\, Tel Aviv\, Israel
ATTACH;FMTTYPE=image/jpeg:https://tlvcitykids.co.il/wp-content/uploads/2024/06/5198d305-5bda-857d-f91f-d90f944cf5fa-2.jpg
ORGANIZER;CN="tlvcitykids":MAILTO:programs@tlvcitykids.co.il
END:VEVENT
BEGIN:VEVENT
DTSTART;TZID=Asia/Jerusalem:20240701T164500
DTEND;TZID=Asia/Jerusalem:20240701T173000
DTSTAMP:20260419T233449
CREATED:20240620T072019Z
LAST-MODIFIED:20240620T072019Z
UID:10000501-1719852300-1719855000@tlvcitykids.co.il
SUMMARY:Little EFL
DESCRIPTION:Ages 4-6 | English for Hebrew Speakers\nMondays at 16:45- 17:30  \nLooking to learn English this summer!? Our Little EFL students will learn English through games\, movement\, song and play throughout the 5 week class.  \nJuly 1st\, 8th\, 15th\, 22nd\, 29th\nSign up HERE
URL:https://tlvcitykids.co.il/event/little-efl/2024-07-01/
LOCATION:CityKids\, Ibn Gvirol 188\, Tel Aviv\, Israel
ATTACH;FMTTYPE=image/jpeg:https://tlvcitykids.co.il/wp-content/uploads/2024/06/ab5cfdd0-bc85-472d-9585-8e6e3595367a.jpg
ORGANIZER;CN="tlvcitykids":MAILTO:programs@tlvcitykids.co.il
END:VEVENT
BEGIN:VEVENT
DTSTART;TZID=Asia/Jerusalem:20240701T164500
DTEND;TZID=Asia/Jerusalem:20240701T173000
DTSTAMP:20260419T233449
CREATED:20240620T071732Z
LAST-MODIFIED:20240620T072040Z
UID:10000444-1719852300-1719855000@tlvcitykids.co.il
SUMMARY:ABC Adventures
DESCRIPTION:ABC Adventures\nAges 3.5-5\nMondays at 16:45- 17:30  \nJoin us for a hybrid English and art course that gives children a multi-sensory experience of learning the alphabet! Students gain awareness of letter shapes and sounds through songs\, games\, stories and art projects.  \nJuly 1st\, 8th\, 15th\, 22nd\, 29th\nSign up HERE
URL:https://tlvcitykids.co.il/event/abc-adventures/2024-07-01/
LOCATION:CityKids\, Ibn Gvirol 188\, Tel Aviv\, Israel
ATTACH;FMTTYPE=image/jpeg:https://tlvcitykids.co.il/wp-content/uploads/2024/06/5fc5a138-faa7-eb93-2ebc-52efb2bb1e37-2-scaled.jpg
ORGANIZER;CN="tlvcitykids":MAILTO:programs@tlvcitykids.co.il
END:VEVENT
END:VCALENDAR