BEGIN:VCALENDAR
VERSION:2.0
PRODID:-//CityKids - ECPv6.10.3//NONSGML v1.0//EN
CALSCALE:GREGORIAN
METHOD:PUBLISH
X-WR-CALNAME:CityKids
X-ORIGINAL-URL:https://tlvcitykids.co.il
X-WR-CALDESC:Events for CityKids
REFRESH-INTERVAL;VALUE=DURATION:PT1H
X-Robots-Tag:noindex
X-PUBLISHED-TTL:PT1H
BEGIN:VTIMEZONE
TZID:Asia/Jerusalem
BEGIN:DAYLIGHT
TZOFFSETFROM:+0200
TZOFFSETTO:+0300
TZNAME:IDT
DTSTART:20240329T000000
END:DAYLIGHT
BEGIN:STANDARD
TZOFFSETFROM:+0300
TZOFFSETTO:+0200
TZNAME:IST
DTSTART:20241026T230000
END:STANDARD
END:VTIMEZONE
BEGIN:VEVENT
DTSTART;TZID=Asia/Jerusalem:20240701T164500
DTEND;TZID=Asia/Jerusalem:20240701T173000
DTSTAMP:20260420T031452
CREATED:20240620T072019Z
LAST-MODIFIED:20240620T072019Z
UID:10000501-1719852300-1719855000@tlvcitykids.co.il
SUMMARY:Little EFL
DESCRIPTION:Ages 4-6 | English for Hebrew Speakers\nMondays at 16:45- 17:30  \nLooking to learn English this summer!? Our Little EFL students will learn English through games\, movement\, song and play throughout the 5 week class.  \nJuly 1st\, 8th\, 15th\, 22nd\, 29th\nSign up HERE
URL:https://tlvcitykids.co.il/event/little-efl/2024-07-01/
LOCATION:CityKids\, Ibn Gvirol 188\, Tel Aviv\, Israel
ATTACH;FMTTYPE=image/jpeg:https://tlvcitykids.co.il/wp-content/uploads/2024/06/ab5cfdd0-bc85-472d-9585-8e6e3595367a.jpg
ORGANIZER;CN="tlvcitykids":MAILTO:programs@tlvcitykids.co.il
END:VEVENT
BEGIN:VEVENT
DTSTART;TZID=Asia/Jerusalem:20240701T164500
DTEND;TZID=Asia/Jerusalem:20240701T173000
DTSTAMP:20260420T031452
CREATED:20240620T071732Z
LAST-MODIFIED:20240620T072040Z
UID:10000444-1719852300-1719855000@tlvcitykids.co.il
SUMMARY:ABC Adventures
DESCRIPTION:ABC Adventures\nAges 3.5-5\nMondays at 16:45- 17:30  \nJoin us for a hybrid English and art course that gives children a multi-sensory experience of learning the alphabet! Students gain awareness of letter shapes and sounds through songs\, games\, stories and art projects.  \nJuly 1st\, 8th\, 15th\, 22nd\, 29th\nSign up HERE
URL:https://tlvcitykids.co.il/event/abc-adventures/2024-07-01/
LOCATION:CityKids\, Ibn Gvirol 188\, Tel Aviv\, Israel
ATTACH;FMTTYPE=image/jpeg:https://tlvcitykids.co.il/wp-content/uploads/2024/06/5fc5a138-faa7-eb93-2ebc-52efb2bb1e37-2-scaled.jpg
ORGANIZER;CN="tlvcitykids":MAILTO:programs@tlvcitykids.co.il
END:VEVENT
END:VCALENDAR