BEGIN:VCALENDAR
VERSION:2.0
PRODID:-//CityKids - ECPv6.10.3//NONSGML v1.0//EN
CALSCALE:GREGORIAN
METHOD:PUBLISH
X-WR-CALNAME:CityKids
X-ORIGINAL-URL:https://tlvcitykids.co.il
X-WR-CALDESC:Events for CityKids
REFRESH-INTERVAL;VALUE=DURATION:PT1H
X-Robots-Tag:noindex
X-PUBLISHED-TTL:PT1H
BEGIN:VTIMEZONE
TZID:Asia/Jerusalem
BEGIN:DAYLIGHT
TZOFFSETFROM:+0200
TZOFFSETTO:+0300
TZNAME:IDT
DTSTART:20240329T000000
END:DAYLIGHT
BEGIN:STANDARD
TZOFFSETFROM:+0300
TZOFFSETTO:+0200
TZNAME:IST
DTSTART:20241026T230000
END:STANDARD
BEGIN:DAYLIGHT
TZOFFSETFROM:+0200
TZOFFSETTO:+0300
TZNAME:IDT
DTSTART:20250328T000000
END:DAYLIGHT
BEGIN:STANDARD
TZOFFSETFROM:+0300
TZOFFSETTO:+0200
TZNAME:IST
DTSTART:20251025T230000
END:STANDARD
END:VTIMEZONE
BEGIN:VEVENT
DTSTART;TZID=Asia/Jerusalem:20250303T164500
DTEND;TZID=Asia/Jerusalem:20250303T173000
DTSTAMP:20260419T194123
CREATED:20250211T145458Z
LAST-MODIFIED:20250211T145458Z
UID:10000715-1741020300-1741023000@tlvcitykids.co.il
SUMMARY:Musical Mondays (3-6 yrs) HADAR YOSEF
DESCRIPTION:Musical Mondays at HADAR YOSEF\nAges: 3-6 years\nMondays 16:45-17:30 \nJoin us for a lively musical journey where children explore rhythm\, melody\, and movement. Engaging in interactive songs\, playful instrument activities\, and English enrichment. \nMondays: Feb 24th; March 3rd\, 10th\, 17th\, 24th\, 31st\, and April 7th\n490nis – 7 classes\n75nis – drop in \nCLICK HERE TO REGISTER! 
URL:https://tlvcitykids.co.il/event/musical-mondays-3-6-yrs-hadar-yosef/2025-03-03/
LOCATION:CityKids Hadar Yosef\, Kehilat Varsha 10\, Tel Aviv\, Israel
ATTACH;FMTTYPE=image/png:https://tlvcitykids.co.il/wp-content/uploads/2025/02/1.png
ORGANIZER;CN="tlvcitykids":MAILTO:programs@tlvcitykids.co.il
END:VEVENT
BEGIN:VEVENT
DTSTART;TZID=Asia/Jerusalem:20250227T110000
DTEND;TZID=Asia/Jerusalem:20250227T120000
DTSTAMP:20260419T194123
CREATED:20250211T160604Z
LAST-MODIFIED:20250211T160604Z
UID:10000721-1740654000-1740657600@tlvcitykids.co.il
SUMMARY:Tiny Tumblers (6-14 months) HADAR YOSEF
DESCRIPTION:Tiny Tumblers\nAges: 6-14 months\nThursdays 11:00-12:00\nCaregiver & Me Class \nOur Tiny Tumblers program offers a safe and supportive space for babies to develop motor skills through guided play and gentle exercises\, fostering early physical development. \nThursdays: Feb 27th; March 6th\, 20th\, 27th; April 3rd and 10th\n480nis – 6 classes\n85nis – drop in
URL:https://tlvcitykids.co.il/event/tiny-tumblers-6-14-months-hadar-yosef/2025-02-27/
LOCATION:CityKids Hadar Yosef\, Kehilat Varsha 10\, Tel Aviv\, Israel
ATTACH;FMTTYPE=image/png:https://tlvcitykids.co.il/wp-content/uploads/2025/02/2.png
ORGANIZER;CN="tlvcitykids":MAILTO:programs@tlvcitykids.co.il
END:VEVENT
BEGIN:VEVENT
DTSTART;TZID=Asia/Jerusalem:20250224T164500
DTEND;TZID=Asia/Jerusalem:20250224T173000
DTSTAMP:20260419T194123
CREATED:20250211T145458Z
LAST-MODIFIED:20250211T145458Z
UID:10000714-1740415500-1740418200@tlvcitykids.co.il
SUMMARY:Musical Mondays (3-6 yrs) HADAR YOSEF
DESCRIPTION:Musical Mondays at HADAR YOSEF\nAges: 3-6 years\nMondays 16:45-17:30 \nJoin us for a lively musical journey where children explore rhythm\, melody\, and movement. Engaging in interactive songs\, playful instrument activities\, and English enrichment. \nMondays: Feb 24th; March 3rd\, 10th\, 17th\, 24th\, 31st\, and April 7th\n490nis – 7 classes\n75nis – drop in \nCLICK HERE TO REGISTER! 
URL:https://tlvcitykids.co.il/event/musical-mondays-3-6-yrs-hadar-yosef/2025-02-24/
LOCATION:CityKids Hadar Yosef\, Kehilat Varsha 10\, Tel Aviv\, Israel
ATTACH;FMTTYPE=image/png:https://tlvcitykids.co.il/wp-content/uploads/2025/02/1.png
ORGANIZER;CN="tlvcitykids":MAILTO:programs@tlvcitykids.co.il
END:VEVENT
BEGIN:VEVENT
DTSTART;TZID=Asia/Jerusalem:20250213T170000
DTEND;TZID=Asia/Jerusalem:20250213T190000
DTSTAMP:20260419T194123
CREATED:20250209T111907Z
LAST-MODIFIED:20250209T111907Z
UID:10000713-1739466000-1739473200@tlvcitykids.co.il
SUMMARY:Community Bloom Fest
DESCRIPTION:Join us for an exciting family-friendly event filled with English activities\, arts & crafts\, music\, and more! Enjoy a fun and welcoming community atmosphere\, with engaging experiences for all ages. \nClick here to register!
URL:https://tlvcitykids.co.il/event/community-bloom-fest/
LOCATION:CityKids Hadar Yosef\, Kehilat Varsha 10\, Tel Aviv\, Israel
ATTACH;FMTTYPE=image/png:https://tlvcitykids.co.il/wp-content/uploads/2025/02/SOCIALS-Community-BloomFest.png
ORGANIZER;CN="tlvcitykids":MAILTO:programs@tlvcitykids.co.il
END:VEVENT
BEGIN:VEVENT
DTSTART;TZID=Asia/Jerusalem:20250129T174500
DTEND;TZID=Asia/Jerusalem:20250129T183000
DTSTAMP:20260419T194123
CREATED:20241212T123455Z
LAST-MODIFIED:20241212T124358Z
UID:10000643-1738172700-1738175400@tlvcitykids.co.il
SUMMARY:Art Workshop 6-9 yrs- OLD NORTH
DESCRIPTION:In Art Explorers\, every session is an opportunity to create\, imagine\, and explore! Designed for kids ages 6–9\, this hands-on class will dive into a new art adventure each week. From painting and drawing to sculpture and mixed media\, young artists will unleash their creativity while learning new skills and having fun.  \nAges 6-9  \nWednesdays at 17:45-18:30 | Dec 18\, Jan 8\, 15\, 22\, 29  \nREGISTER HERE \n280nis/child \n 
URL:https://tlvcitykids.co.il/event/art-workshop-old-north/2025-01-29/
LOCATION:CityKids\, Ibn Gvirol 188\, Tel Aviv\, Israel
ATTACH;FMTTYPE=image/png:https://tlvcitykids.co.il/wp-content/uploads/2024/12/Mailchimp-Dec-2024-2.png
ORGANIZER;CN="tlvcitykids":MAILTO:programs@tlvcitykids.co.il
END:VEVENT
BEGIN:VEVENT
DTSTART;TZID=Asia/Jerusalem:20250127T174500
DTEND;TZID=Asia/Jerusalem:20250127T183000
DTSTAMP:20260419T194123
CREATED:20241212T122813Z
LAST-MODIFIED:20241212T124348Z
UID:10000637-1737999900-1738002600@tlvcitykids.co.il
SUMMARY:Time Traveler's Workshop 4-7yrs - OLD NORTH
DESCRIPTION:Get ready for an epic journey through time! In Time Travelers\, kids will explore exciting eras like the age of dinosaurs\, ancient pyramids\, and medieval castles. Each week features creative hands-on crafts like building time machines\, erupting volcanoes\, and painting like cave dwellers. This immersive workshop blends art\, science\, and storytelling for a truly creative adventure through time!  \nAges 4-7  \nMondays at 17:45-18:30 | Dec 16\, 23\, Jan 6\, 13\, 20\, 27  \nREGISTER HERE \n420nis/child
URL:https://tlvcitykids.co.il/event/time-travelers-workshop-old-north/2025-01-27/
LOCATION:CityKids\, Ibn Gvirol 188\, Tel Aviv\, Israel
ATTACH;FMTTYPE=image/jpeg:https://tlvcitykids.co.il/wp-content/uploads/2024/12/Mailchimp-Dec-2024-1.jpg
ORGANIZER;CN="tlvcitykids":MAILTO:programs@tlvcitykids.co.il
END:VEVENT
BEGIN:VEVENT
DTSTART;TZID=Asia/Jerusalem:20250122T174500
DTEND;TZID=Asia/Jerusalem:20250122T183000
DTSTAMP:20260419T194123
CREATED:20241212T123455Z
LAST-MODIFIED:20241212T124358Z
UID:10000642-1737567900-1737570600@tlvcitykids.co.il
SUMMARY:Art Workshop 6-9 yrs- OLD NORTH
DESCRIPTION:In Art Explorers\, every session is an opportunity to create\, imagine\, and explore! Designed for kids ages 6–9\, this hands-on class will dive into a new art adventure each week. From painting and drawing to sculpture and mixed media\, young artists will unleash their creativity while learning new skills and having fun.  \nAges 6-9  \nWednesdays at 17:45-18:30 | Dec 18\, Jan 8\, 15\, 22\, 29  \nREGISTER HERE \n280nis/child \n 
URL:https://tlvcitykids.co.il/event/art-workshop-old-north/2025-01-22/
LOCATION:CityKids\, Ibn Gvirol 188\, Tel Aviv\, Israel
ATTACH;FMTTYPE=image/png:https://tlvcitykids.co.il/wp-content/uploads/2024/12/Mailchimp-Dec-2024-2.png
ORGANIZER;CN="tlvcitykids":MAILTO:programs@tlvcitykids.co.il
END:VEVENT
BEGIN:VEVENT
DTSTART;TZID=Asia/Jerusalem:20250120T174500
DTEND;TZID=Asia/Jerusalem:20250120T183000
DTSTAMP:20260419T194123
CREATED:20241212T122813Z
LAST-MODIFIED:20241212T124348Z
UID:10000636-1737395100-1737397800@tlvcitykids.co.il
SUMMARY:Time Traveler's Workshop 4-7yrs - OLD NORTH
DESCRIPTION:Get ready for an epic journey through time! In Time Travelers\, kids will explore exciting eras like the age of dinosaurs\, ancient pyramids\, and medieval castles. Each week features creative hands-on crafts like building time machines\, erupting volcanoes\, and painting like cave dwellers. This immersive workshop blends art\, science\, and storytelling for a truly creative adventure through time!  \nAges 4-7  \nMondays at 17:45-18:30 | Dec 16\, 23\, Jan 6\, 13\, 20\, 27  \nREGISTER HERE \n420nis/child
URL:https://tlvcitykids.co.il/event/time-travelers-workshop-old-north/2025-01-20/
LOCATION:CityKids\, Ibn Gvirol 188\, Tel Aviv\, Israel
ATTACH;FMTTYPE=image/jpeg:https://tlvcitykids.co.il/wp-content/uploads/2024/12/Mailchimp-Dec-2024-1.jpg
ORGANIZER;CN="tlvcitykids":MAILTO:programs@tlvcitykids.co.il
END:VEVENT
BEGIN:VEVENT
DTSTART;TZID=Asia/Jerusalem:20250115T174500
DTEND;TZID=Asia/Jerusalem:20250115T183000
DTSTAMP:20260419T194123
CREATED:20241212T123455Z
LAST-MODIFIED:20241212T124358Z
UID:10000641-1736963100-1736965800@tlvcitykids.co.il
SUMMARY:Art Workshop 6-9 yrs- OLD NORTH
DESCRIPTION:In Art Explorers\, every session is an opportunity to create\, imagine\, and explore! Designed for kids ages 6–9\, this hands-on class will dive into a new art adventure each week. From painting and drawing to sculpture and mixed media\, young artists will unleash their creativity while learning new skills and having fun.  \nAges 6-9  \nWednesdays at 17:45-18:30 | Dec 18\, Jan 8\, 15\, 22\, 29  \nREGISTER HERE \n280nis/child \n 
URL:https://tlvcitykids.co.il/event/art-workshop-old-north/2025-01-15/
LOCATION:CityKids\, Ibn Gvirol 188\, Tel Aviv\, Israel
ATTACH;FMTTYPE=image/png:https://tlvcitykids.co.il/wp-content/uploads/2024/12/Mailchimp-Dec-2024-2.png
ORGANIZER;CN="tlvcitykids":MAILTO:programs@tlvcitykids.co.il
END:VEVENT
BEGIN:VEVENT
DTSTART;TZID=Asia/Jerusalem:20250114T164500
DTEND;TZID=Asia/Jerusalem:20250114T173000
DTSTAMP:20260419T194123
CREATED:20250109T093540Z
LAST-MODIFIED:20250109T093540Z
UID:10000712-1736873100-1736875800@tlvcitykids.co.il
SUMMARY:Mess it Up! Sensory Play at OLD NORTH
DESCRIPTION:Tuesday\, January 14th at Old North \nAges: 1-3 Years \n16:45-17:30 \nBring your little ones to our sensory play workshop\, where they can squish\, splash\, and explore through messy\, hands-on activities designed to engage their senses and spark early creativity! \nClick HERE to Sign Up!
URL:https://tlvcitykids.co.il/event/mess-it-up-sensory-play-at-old-north/
LOCATION:CityKids\, Ibn Gvirol 188\, Tel Aviv\, Israel
ATTACH;FMTTYPE=image/png:https://tlvcitykids.co.il/wp-content/uploads/2025/01/1.png
ORGANIZER;CN="tlvcitykids":MAILTO:programs@tlvcitykids.co.il
END:VEVENT
BEGIN:VEVENT
DTSTART;TZID=Asia/Jerusalem:20250113T174500
DTEND;TZID=Asia/Jerusalem:20250113T183000
DTSTAMP:20260419T194123
CREATED:20241212T122813Z
LAST-MODIFIED:20241212T124348Z
UID:10000635-1736790300-1736793000@tlvcitykids.co.il
SUMMARY:Time Traveler's Workshop 4-7yrs - OLD NORTH
DESCRIPTION:Get ready for an epic journey through time! In Time Travelers\, kids will explore exciting eras like the age of dinosaurs\, ancient pyramids\, and medieval castles. Each week features creative hands-on crafts like building time machines\, erupting volcanoes\, and painting like cave dwellers. This immersive workshop blends art\, science\, and storytelling for a truly creative adventure through time!  \nAges 4-7  \nMondays at 17:45-18:30 | Dec 16\, 23\, Jan 6\, 13\, 20\, 27  \nREGISTER HERE \n420nis/child
URL:https://tlvcitykids.co.il/event/time-travelers-workshop-old-north/2025-01-13/
LOCATION:CityKids\, Ibn Gvirol 188\, Tel Aviv\, Israel
ATTACH;FMTTYPE=image/jpeg:https://tlvcitykids.co.il/wp-content/uploads/2024/12/Mailchimp-Dec-2024-1.jpg
ORGANIZER;CN="tlvcitykids":MAILTO:programs@tlvcitykids.co.il
END:VEVENT
BEGIN:VEVENT
DTSTART;TZID=Asia/Jerusalem:20250108T174500
DTEND;TZID=Asia/Jerusalem:20250108T183000
DTSTAMP:20260419T194123
CREATED:20241212T123455Z
LAST-MODIFIED:20241212T124358Z
UID:10000640-1736358300-1736361000@tlvcitykids.co.il
SUMMARY:Art Workshop 6-9 yrs- OLD NORTH
DESCRIPTION:In Art Explorers\, every session is an opportunity to create\, imagine\, and explore! Designed for kids ages 6–9\, this hands-on class will dive into a new art adventure each week. From painting and drawing to sculpture and mixed media\, young artists will unleash their creativity while learning new skills and having fun.  \nAges 6-9  \nWednesdays at 17:45-18:30 | Dec 18\, Jan 8\, 15\, 22\, 29  \nREGISTER HERE \n280nis/child \n 
URL:https://tlvcitykids.co.il/event/art-workshop-old-north/2025-01-08/
LOCATION:CityKids\, Ibn Gvirol 188\, Tel Aviv\, Israel
ATTACH;FMTTYPE=image/png:https://tlvcitykids.co.il/wp-content/uploads/2024/12/Mailchimp-Dec-2024-2.png
ORGANIZER;CN="tlvcitykids":MAILTO:programs@tlvcitykids.co.il
END:VEVENT
BEGIN:VEVENT
DTSTART;TZID=Asia/Jerusalem:20250106T174500
DTEND;TZID=Asia/Jerusalem:20250106T183000
DTSTAMP:20260419T194123
CREATED:20241212T122813Z
LAST-MODIFIED:20241212T124348Z
UID:10000634-1736185500-1736188200@tlvcitykids.co.il
SUMMARY:Time Traveler's Workshop 4-7yrs - OLD NORTH
DESCRIPTION:Get ready for an epic journey through time! In Time Travelers\, kids will explore exciting eras like the age of dinosaurs\, ancient pyramids\, and medieval castles. Each week features creative hands-on crafts like building time machines\, erupting volcanoes\, and painting like cave dwellers. This immersive workshop blends art\, science\, and storytelling for a truly creative adventure through time!  \nAges 4-7  \nMondays at 17:45-18:30 | Dec 16\, 23\, Jan 6\, 13\, 20\, 27  \nREGISTER HERE \n420nis/child
URL:https://tlvcitykids.co.il/event/time-travelers-workshop-old-north/2025-01-06/
LOCATION:CityKids\, Ibn Gvirol 188\, Tel Aviv\, Israel
ATTACH;FMTTYPE=image/jpeg:https://tlvcitykids.co.il/wp-content/uploads/2024/12/Mailchimp-Dec-2024-1.jpg
ORGANIZER;CN="tlvcitykids":MAILTO:programs@tlvcitykids.co.il
END:VEVENT
BEGIN:VEVENT
DTSTART;TZID=Asia/Jerusalem:20250101T174500
DTEND;TZID=Asia/Jerusalem:20250101T183000
DTSTAMP:20260419T194123
CREATED:20241212T123455Z
LAST-MODIFIED:20241212T124358Z
UID:10000639-1735753500-1735756200@tlvcitykids.co.il
SUMMARY:Art Workshop 6-9 yrs- OLD NORTH
DESCRIPTION:In Art Explorers\, every session is an opportunity to create\, imagine\, and explore! Designed for kids ages 6–9\, this hands-on class will dive into a new art adventure each week. From painting and drawing to sculpture and mixed media\, young artists will unleash their creativity while learning new skills and having fun.  \nAges 6-9  \nWednesdays at 17:45-18:30 | Dec 18\, Jan 8\, 15\, 22\, 29  \nREGISTER HERE \n280nis/child \n 
URL:https://tlvcitykids.co.il/event/art-workshop-old-north/2025-01-01/
LOCATION:CityKids\, Ibn Gvirol 188\, Tel Aviv\, Israel
ATTACH;FMTTYPE=image/png:https://tlvcitykids.co.il/wp-content/uploads/2024/12/Mailchimp-Dec-2024-2.png
ORGANIZER;CN="tlvcitykids":MAILTO:programs@tlvcitykids.co.il
END:VEVENT
BEGIN:VEVENT
DTSTART;TZID=Asia/Jerusalem:20241223T174500
DTEND;TZID=Asia/Jerusalem:20241223T183000
DTSTAMP:20260419T194123
CREATED:20241212T122813Z
LAST-MODIFIED:20241212T124348Z
UID:10000633-1734975900-1734978600@tlvcitykids.co.il
SUMMARY:Time Traveler's Workshop 4-7yrs - OLD NORTH
DESCRIPTION:Get ready for an epic journey through time! In Time Travelers\, kids will explore exciting eras like the age of dinosaurs\, ancient pyramids\, and medieval castles. Each week features creative hands-on crafts like building time machines\, erupting volcanoes\, and painting like cave dwellers. This immersive workshop blends art\, science\, and storytelling for a truly creative adventure through time!  \nAges 4-7  \nMondays at 17:45-18:30 | Dec 16\, 23\, Jan 6\, 13\, 20\, 27  \nREGISTER HERE \n420nis/child
URL:https://tlvcitykids.co.il/event/time-travelers-workshop-old-north/2024-12-23/
LOCATION:CityKids\, Ibn Gvirol 188\, Tel Aviv\, Israel
ATTACH;FMTTYPE=image/jpeg:https://tlvcitykids.co.il/wp-content/uploads/2024/12/Mailchimp-Dec-2024-1.jpg
ORGANIZER;CN="tlvcitykids":MAILTO:programs@tlvcitykids.co.il
END:VEVENT
BEGIN:VEVENT
DTSTART;TZID=Asia/Jerusalem:20241218T174500
DTEND;TZID=Asia/Jerusalem:20241218T183000
DTSTAMP:20260419T194123
CREATED:20241212T123455Z
LAST-MODIFIED:20241212T124358Z
UID:10000638-1734543900-1734546600@tlvcitykids.co.il
SUMMARY:Art Workshop 6-9 yrs- OLD NORTH
DESCRIPTION:In Art Explorers\, every session is an opportunity to create\, imagine\, and explore! Designed for kids ages 6–9\, this hands-on class will dive into a new art adventure each week. From painting and drawing to sculpture and mixed media\, young artists will unleash their creativity while learning new skills and having fun.  \nAges 6-9  \nWednesdays at 17:45-18:30 | Dec 18\, Jan 8\, 15\, 22\, 29  \nREGISTER HERE \n280nis/child \n 
URL:https://tlvcitykids.co.il/event/art-workshop-old-north/2024-12-18/
LOCATION:CityKids\, Ibn Gvirol 188\, Tel Aviv\, Israel
ATTACH;FMTTYPE=image/png:https://tlvcitykids.co.il/wp-content/uploads/2024/12/Mailchimp-Dec-2024-2.png
ORGANIZER;CN="tlvcitykids":MAILTO:programs@tlvcitykids.co.il
END:VEVENT
BEGIN:VEVENT
DTSTART;TZID=Asia/Jerusalem:20241216T174500
DTEND;TZID=Asia/Jerusalem:20241216T183000
DTSTAMP:20260419T194123
CREATED:20241212T122813Z
LAST-MODIFIED:20241212T124348Z
UID:10000632-1734371100-1734373800@tlvcitykids.co.il
SUMMARY:Time Traveler's Workshop 4-7yrs - OLD NORTH
DESCRIPTION:Get ready for an epic journey through time! In Time Travelers\, kids will explore exciting eras like the age of dinosaurs\, ancient pyramids\, and medieval castles. Each week features creative hands-on crafts like building time machines\, erupting volcanoes\, and painting like cave dwellers. This immersive workshop blends art\, science\, and storytelling for a truly creative adventure through time!  \nAges 4-7  \nMondays at 17:45-18:30 | Dec 16\, 23\, Jan 6\, 13\, 20\, 27  \nREGISTER HERE \n420nis/child
URL:https://tlvcitykids.co.il/event/time-travelers-workshop-old-north/2024-12-16/
LOCATION:CityKids\, Ibn Gvirol 188\, Tel Aviv\, Israel
ATTACH;FMTTYPE=image/jpeg:https://tlvcitykids.co.il/wp-content/uploads/2024/12/Mailchimp-Dec-2024-1.jpg
ORGANIZER;CN="tlvcitykids":MAILTO:programs@tlvcitykids.co.il
END:VEVENT
BEGIN:VEVENT
DTSTART;TZID=Asia/Jerusalem:20241127T163000
DTEND;TZID=Asia/Jerusalem:20241127T171500
DTSTAMP:20260419T194123
CREATED:20241029T121851Z
LAST-MODIFIED:20241029T121851Z
UID:10000625-1732725000-1732727700@tlvcitykids.co.il
SUMMARY:Thanksgiving at HADAR YOSEF
DESCRIPTION:Wednesday\, November 27th \n16:30-17:15 \nAges: 3.5-7 \nJoin us for Gobble & Craft\, where kids will make fun Thanksgiving crafts and sample delicious holiday foods! It’s a creative and tasty way to celebrate the season together! LIMITED SPOTS AVAILABLE! \nClick HERE to register!
URL:https://tlvcitykids.co.il/event/thanksgiving-at-hadar-yosef/
LOCATION:CityKids Hadar Yosef\, Kehilat Varsha 10\, Tel Aviv\, Israel
ATTACH;FMTTYPE=image/png:https://tlvcitykids.co.il/wp-content/uploads/2024/10/5.png
ORGANIZER;CN="tlvcitykids":MAILTO:programs@tlvcitykids.co.il
END:VEVENT
BEGIN:VEVENT
DTSTART;TZID=Asia/Jerusalem:20241126T164500
DTEND;TZID=Asia/Jerusalem:20241126T173000
DTSTAMP:20260419T194123
CREATED:20241027T111410Z
LAST-MODIFIED:20241027T111410Z
UID:10000622-1732639500-1732642200@tlvcitykids.co.il
SUMMARY:Thanksgiving Storytime at OLD NORTH
DESCRIPTION:Tuesday\, November 26th \n16:45-17:30 \nAges 3-6 years old \nJoin CityKids for a fun Storytime all about thanksgiving and come out with a thanksgiving craft! \nClick HERE to register!
URL:https://tlvcitykids.co.il/event/thanksgiving-storytime-at-old-north/
LOCATION:CityKids\, Ibn Gvirol 188\, Tel Aviv\, Israel
ATTACH;FMTTYPE=image/png:https://tlvcitykids.co.il/wp-content/uploads/2024/10/3.png
ORGANIZER;CN="tlvcitykids":MAILTO:programs@tlvcitykids.co.il
END:VEVENT
BEGIN:VEVENT
DTSTART;TZID=Asia/Jerusalem:20241125T163000
DTEND;TZID=Asia/Jerusalem:20241125T171500
DTSTAMP:20260419T194123
CREATED:20241029T121632Z
LAST-MODIFIED:20241029T121632Z
UID:10000624-1732552200-1732554900@tlvcitykids.co.il
SUMMARY:Storytime at HADAR YOSEF
DESCRIPTION:Monday\, November 25th \n16:30-17:15 \nAges: 3.5-7 years \nJoin us for an engaging storytime workshop perfect for kids who love reading and discovering new adventures with each turn of the page. \nClick HERE to register! \n 
URL:https://tlvcitykids.co.il/event/storytime-at-hadar-yosef/
LOCATION:CityKids Hadar Yosef\, Kehilat Varsha 10\, Tel Aviv\, Israel
ATTACH;FMTTYPE=image/png:https://tlvcitykids.co.il/wp-content/uploads/2024/10/7.png
ORGANIZER;CN="tlvcitykids":MAILTO:programs@tlvcitykids.co.il
END:VEVENT
BEGIN:VEVENT
DTSTART;TZID=Asia/Jerusalem:20241121T163000
DTEND;TZID=Asia/Jerusalem:20241121T181500
DTSTAMP:20260419T194123
CREATED:20241027T110820Z
LAST-MODIFIED:20241027T110820Z
UID:10000620-1732206600-1732212900@tlvcitykids.co.il
SUMMARY:Kid's Night Out - Movie and Pizza at OLD NORTH
DESCRIPTION:Thursday\, November 21st – CityKids OLD NORTH \n16:30-18:15 \n4-10 yrs \nKids are invited to watch a MOVIE on the CityKids BIG SCREEN and enjoy PIZZA while parents are free to do as they please! \nClick HERE to register!
URL:https://tlvcitykids.co.il/event/kids-night-out-movie-and-pizza-at-old-north/
LOCATION:CityKids\, Ibn Gvirol 188\, Tel Aviv\, Israel
ATTACH;FMTTYPE=image/png:https://tlvcitykids.co.il/wp-content/uploads/2024/10/1.png
ORGANIZER;CN="tlvcitykids":MAILTO:programs@tlvcitykids.co.il
END:VEVENT
BEGIN:VEVENT
DTSTART;TZID=Asia/Jerusalem:20241112T164500
DTEND;TZID=Asia/Jerusalem:20241112T173000
DTSTAMP:20260419T194123
CREATED:20241027T111040Z
LAST-MODIFIED:20241027T111051Z
UID:10000621-1731429900-1731432600@tlvcitykids.co.il
SUMMARY:Sensory Play Workshop at OLD NORTH
DESCRIPTION:Tuesday\, November 12th – OLD NORTH \n16:45 – 17:30 \nAges 1 – 3 years old* \n*Caregiver and Me Workshop \nIn this workshop\, little ones will explore colors\, textures\, and shapes through playful activities and hands-on experimentation. \nClick HERE to register!
URL:https://tlvcitykids.co.il/event/sensory-play-workshop-at-old-north/
LOCATION:CityKids\, Ibn Gvirol 188\, Tel Aviv\, Israel
ATTACH;FMTTYPE=image/png:https://tlvcitykids.co.il/wp-content/uploads/2024/10/2.png
ORGANIZER;CN="tlvcitykids":MAILTO:programs@tlvcitykids.co.il
END:VEVENT
BEGIN:VEVENT
DTSTART;TZID=Asia/Jerusalem:20240731T164500
DTEND;TZID=Asia/Jerusalem:20240731T173000
DTSTAMP:20260419T194123
CREATED:20240623T123853Z
LAST-MODIFIED:20240703T113356Z
UID:10000531-1722444300-1722447000@tlvcitykids.co.il
SUMMARY:Fun with Phonics
DESCRIPTION:Fun with Phonics | Ages 5-7\nWednesdays at 16:45- 17:30\nSOLD OUT \nThis class will cover complex phonics blends and vowel sounds to sharpen their reading and writing skills. Using art\, games\, stories all while having fun\, they will focus on reading and writing simple sentences.  \nJuly 3rd\, 10th\, 17th\, 24th\, 31st\nSign up HERE
URL:https://tlvcitykids.co.il/event/fun-with-phonics/2024-07-31/
LOCATION:CityKids\, Ibn Gvirol 188\, Tel Aviv\, Israel
ATTACH;FMTTYPE=image/jpeg:https://tlvcitykids.co.il/wp-content/uploads/2024/06/3b62731e-eeab-0152-504c-91122b0ece10-2-scaled.jpg
ORGANIZER;CN="tlvcitykids":MAILTO:programs@tlvcitykids.co.il
END:VEVENT
BEGIN:VEVENT
DTSTART;TZID=Asia/Jerusalem:20240731T164500
DTEND;TZID=Asia/Jerusalem:20240731T173000
DTSTAMP:20260419T194123
CREATED:20240620T073124Z
LAST-MODIFIED:20240623T110522Z
UID:10000526-1722444300-1722447000@tlvcitykids.co.il
SUMMARY:Music Makers
DESCRIPTION:Ages 2.5-4\nWednesdays at 16:45- 17:30  \nA fun-filled music class\, where little ones explore rhythm\, melody\, and movement through engaging songs and interactive activities designed to spark a lifelong love of music!” \nJuly 3rd\, 10th\, 17th\, 24th\, 31st\nSign up HERE
URL:https://tlvcitykids.co.il/event/music-makers/2024-07-31/
LOCATION:CityKids\, Ibn Gvirol 188\, Tel Aviv\, Israel
ATTACH;FMTTYPE=image/jpeg:https://tlvcitykids.co.il/wp-content/uploads/2024/06/ec5bf4ea-b8fa-851e-fc59-d0ca1ce8b801-2.jpg
ORGANIZER;CN="tlvcitykids":MAILTO:programs@tlvcitykids.co.il
END:VEVENT
BEGIN:VEVENT
DTSTART;TZID=Asia/Jerusalem:20240729T164500
DTEND;TZID=Asia/Jerusalem:20240729T173000
DTSTAMP:20260419T194123
CREATED:20240620T072828Z
LAST-MODIFIED:20240620T072828Z
UID:10000521-1722271500-1722274200@tlvcitykids.co.il
SUMMARY:Read and Succeed
DESCRIPTION:Ages 7-9\nMondays at 16:45- 17:30  \nThis class will focus on reading fluency\, advanced phonics and comprehension. Children will learn creative writing and hone up their grammar skills while being exposed to a range of stories. Lessons include drama games\, oral response and a whole lot of creativity.  \nJuly 1st\, 8th\, 15th\, 22nd\, 29th\nSign up HERE
URL:https://tlvcitykids.co.il/event/read-and-succeed/2024-07-29/
LOCATION:CityKids\, Ibn Gvirol 188\, Tel Aviv\, Israel
ATTACH;FMTTYPE=image/jpeg:https://tlvcitykids.co.il/wp-content/uploads/2024/06/5198d305-5bda-857d-f91f-d90f944cf5fa-2.jpg
ORGANIZER;CN="tlvcitykids":MAILTO:programs@tlvcitykids.co.il
END:VEVENT
BEGIN:VEVENT
DTSTART;TZID=Asia/Jerusalem:20240729T164500
DTEND;TZID=Asia/Jerusalem:20240729T173000
DTSTAMP:20260419T194123
CREATED:20240620T072019Z
LAST-MODIFIED:20240620T072019Z
UID:10000505-1722271500-1722274200@tlvcitykids.co.il
SUMMARY:Little EFL
DESCRIPTION:Ages 4-6 | English for Hebrew Speakers\nMondays at 16:45- 17:30  \nLooking to learn English this summer!? Our Little EFL students will learn English through games\, movement\, song and play throughout the 5 week class.  \nJuly 1st\, 8th\, 15th\, 22nd\, 29th\nSign up HERE
URL:https://tlvcitykids.co.il/event/little-efl/2024-07-29/
LOCATION:CityKids\, Ibn Gvirol 188\, Tel Aviv\, Israel
ATTACH;FMTTYPE=image/jpeg:https://tlvcitykids.co.il/wp-content/uploads/2024/06/ab5cfdd0-bc85-472d-9585-8e6e3595367a.jpg
ORGANIZER;CN="tlvcitykids":MAILTO:programs@tlvcitykids.co.il
END:VEVENT
BEGIN:VEVENT
DTSTART;TZID=Asia/Jerusalem:20240729T164500
DTEND;TZID=Asia/Jerusalem:20240729T173000
DTSTAMP:20260419T194123
CREATED:20240620T071732Z
LAST-MODIFIED:20240620T072040Z
UID:10000448-1722271500-1722274200@tlvcitykids.co.il
SUMMARY:ABC Adventures
DESCRIPTION:ABC Adventures\nAges 3.5-5\nMondays at 16:45- 17:30  \nJoin us for a hybrid English and art course that gives children a multi-sensory experience of learning the alphabet! Students gain awareness of letter shapes and sounds through songs\, games\, stories and art projects.  \nJuly 1st\, 8th\, 15th\, 22nd\, 29th\nSign up HERE
URL:https://tlvcitykids.co.il/event/abc-adventures/2024-07-29/
LOCATION:CityKids\, Ibn Gvirol 188\, Tel Aviv\, Israel
ATTACH;FMTTYPE=image/jpeg:https://tlvcitykids.co.il/wp-content/uploads/2024/06/5fc5a138-faa7-eb93-2ebc-52efb2bb1e37-2-scaled.jpg
ORGANIZER;CN="tlvcitykids":MAILTO:programs@tlvcitykids.co.il
END:VEVENT
BEGIN:VEVENT
DTSTART;TZID=Asia/Jerusalem:20240724T164500
DTEND;TZID=Asia/Jerusalem:20240724T173000
DTSTAMP:20260419T194123
CREATED:20240623T123853Z
LAST-MODIFIED:20240703T113356Z
UID:10000530-1721839500-1721842200@tlvcitykids.co.il
SUMMARY:Fun with Phonics
DESCRIPTION:Fun with Phonics | Ages 5-7\nWednesdays at 16:45- 17:30\nSOLD OUT \nThis class will cover complex phonics blends and vowel sounds to sharpen their reading and writing skills. Using art\, games\, stories all while having fun\, they will focus on reading and writing simple sentences.  \nJuly 3rd\, 10th\, 17th\, 24th\, 31st\nSign up HERE
URL:https://tlvcitykids.co.il/event/fun-with-phonics/2024-07-24/
LOCATION:CityKids\, Ibn Gvirol 188\, Tel Aviv\, Israel
ATTACH;FMTTYPE=image/jpeg:https://tlvcitykids.co.il/wp-content/uploads/2024/06/3b62731e-eeab-0152-504c-91122b0ece10-2-scaled.jpg
ORGANIZER;CN="tlvcitykids":MAILTO:programs@tlvcitykids.co.il
END:VEVENT
BEGIN:VEVENT
DTSTART;TZID=Asia/Jerusalem:20240724T164500
DTEND;TZID=Asia/Jerusalem:20240724T173000
DTSTAMP:20260419T194123
CREATED:20240620T073124Z
LAST-MODIFIED:20240623T110522Z
UID:10000525-1721839500-1721842200@tlvcitykids.co.il
SUMMARY:Music Makers
DESCRIPTION:Ages 2.5-4\nWednesdays at 16:45- 17:30  \nA fun-filled music class\, where little ones explore rhythm\, melody\, and movement through engaging songs and interactive activities designed to spark a lifelong love of music!” \nJuly 3rd\, 10th\, 17th\, 24th\, 31st\nSign up HERE
URL:https://tlvcitykids.co.il/event/music-makers/2024-07-24/
LOCATION:CityKids\, Ibn Gvirol 188\, Tel Aviv\, Israel
ATTACH;FMTTYPE=image/jpeg:https://tlvcitykids.co.il/wp-content/uploads/2024/06/ec5bf4ea-b8fa-851e-fc59-d0ca1ce8b801-2.jpg
ORGANIZER;CN="tlvcitykids":MAILTO:programs@tlvcitykids.co.il
END:VEVENT
BEGIN:VEVENT
DTSTART;TZID=Asia/Jerusalem:20240722T164500
DTEND;TZID=Asia/Jerusalem:20240722T173000
DTSTAMP:20260419T194123
CREATED:20240620T072828Z
LAST-MODIFIED:20240620T072828Z
UID:10000520-1721666700-1721669400@tlvcitykids.co.il
SUMMARY:Read and Succeed
DESCRIPTION:Ages 7-9\nMondays at 16:45- 17:30  \nThis class will focus on reading fluency\, advanced phonics and comprehension. Children will learn creative writing and hone up their grammar skills while being exposed to a range of stories. Lessons include drama games\, oral response and a whole lot of creativity.  \nJuly 1st\, 8th\, 15th\, 22nd\, 29th\nSign up HERE
URL:https://tlvcitykids.co.il/event/read-and-succeed/2024-07-22/
LOCATION:CityKids\, Ibn Gvirol 188\, Tel Aviv\, Israel
ATTACH;FMTTYPE=image/jpeg:https://tlvcitykids.co.il/wp-content/uploads/2024/06/5198d305-5bda-857d-f91f-d90f944cf5fa-2.jpg
ORGANIZER;CN="tlvcitykids":MAILTO:programs@tlvcitykids.co.il
END:VEVENT
END:VCALENDAR