BEGIN:VCALENDAR
VERSION:2.0
PRODID:-//CityKids - ECPv6.10.3//NONSGML v1.0//EN
CALSCALE:GREGORIAN
METHOD:PUBLISH
X-ORIGINAL-URL:https://tlvcitykids.co.il
X-WR-CALDESC:Events for CityKids
REFRESH-INTERVAL;VALUE=DURATION:PT1H
X-Robots-Tag:noindex
X-PUBLISHED-TTL:PT1H
BEGIN:VTIMEZONE
TZID:Asia/Jerusalem
BEGIN:DAYLIGHT
TZOFFSETFROM:+0200
TZOFFSETTO:+0300
TZNAME:IDT
DTSTART:20250328T000000
END:DAYLIGHT
BEGIN:STANDARD
TZOFFSETFROM:+0300
TZOFFSETTO:+0200
TZNAME:IST
DTSTART:20251025T230000
END:STANDARD
END:VTIMEZONE
BEGIN:VEVENT
DTSTART;TZID=Asia/Jerusalem:20250810T083000
DTEND;TZID=Asia/Jerusalem:20250810T160000
DTSTAMP:20260420T120551
CREATED:20250707T141900Z
LAST-MODIFIED:20250707T141900Z
UID:10000727-1754814600-1754841600@tlvcitykids.co.il
SUMMARY:CityKids Summer Camp
DESCRIPTION:Our camp offers a vibrant\, inclusive\, and English-speaking environment where children grow in confidence and self-esteem through playful and meaningful experiences. Each day is filled with exciting\, hands-on activities designed to spark curiosity\, foster creativity\, and promote teamwork.\nFrom movement and music to art\, cooking\, science\, outdoor adventures\, and more\, our program challenges campers in fun and engaging ways—helping them discover the joy of learning and the pride of personal accomplishment. \nCamp is suitable for children ages 3.5-10 \nAll children who attend camp are required to be completely potty trained and verbal (English) to maximize their experience
URL:https://tlvcitykids.co.il/event/citykids-summer-camp/2025-08-10/
LOCATION:CityKids Hadar Yosef\, Kehilat Varsha 10\, Tel Aviv\, Israel
ATTACH;FMTTYPE=image/png:https://tlvcitykids.co.il/wp-content/uploads/2025/07/Summer-Camp-2025-Whatsapp-2.png
ORGANIZER;CN="tlvcitykids":MAILTO:programs@tlvcitykids.co.il
END:VEVENT
BEGIN:VEVENT
DTSTART;TZID=Asia/Jerusalem:20250811T083000
DTEND;TZID=Asia/Jerusalem:20250811T160000
DTSTAMP:20260420T120551
CREATED:20250707T141900Z
LAST-MODIFIED:20250707T141900Z
UID:10000728-1754901000-1754928000@tlvcitykids.co.il
SUMMARY:CityKids Summer Camp
DESCRIPTION:Our camp offers a vibrant\, inclusive\, and English-speaking environment where children grow in confidence and self-esteem through playful and meaningful experiences. Each day is filled with exciting\, hands-on activities designed to spark curiosity\, foster creativity\, and promote teamwork.\nFrom movement and music to art\, cooking\, science\, outdoor adventures\, and more\, our program challenges campers in fun and engaging ways—helping them discover the joy of learning and the pride of personal accomplishment. \nCamp is suitable for children ages 3.5-10 \nAll children who attend camp are required to be completely potty trained and verbal (English) to maximize their experience
URL:https://tlvcitykids.co.il/event/citykids-summer-camp/2025-08-11/
LOCATION:CityKids Hadar Yosef\, Kehilat Varsha 10\, Tel Aviv\, Israel
ATTACH;FMTTYPE=image/png:https://tlvcitykids.co.il/wp-content/uploads/2025/07/Summer-Camp-2025-Whatsapp-2.png
ORGANIZER;CN="tlvcitykids":MAILTO:programs@tlvcitykids.co.il
END:VEVENT
BEGIN:VEVENT
DTSTART;TZID=Asia/Jerusalem:20250812T083000
DTEND;TZID=Asia/Jerusalem:20250812T160000
DTSTAMP:20260420T120551
CREATED:20250707T141900Z
LAST-MODIFIED:20250707T141900Z
UID:10000729-1754987400-1755014400@tlvcitykids.co.il
SUMMARY:CityKids Summer Camp
DESCRIPTION:Our camp offers a vibrant\, inclusive\, and English-speaking environment where children grow in confidence and self-esteem through playful and meaningful experiences. Each day is filled with exciting\, hands-on activities designed to spark curiosity\, foster creativity\, and promote teamwork.\nFrom movement and music to art\, cooking\, science\, outdoor adventures\, and more\, our program challenges campers in fun and engaging ways—helping them discover the joy of learning and the pride of personal accomplishment. \nCamp is suitable for children ages 3.5-10 \nAll children who attend camp are required to be completely potty trained and verbal (English) to maximize their experience
URL:https://tlvcitykids.co.il/event/citykids-summer-camp/2025-08-12/
LOCATION:CityKids Hadar Yosef\, Kehilat Varsha 10\, Tel Aviv\, Israel
ATTACH;FMTTYPE=image/png:https://tlvcitykids.co.il/wp-content/uploads/2025/07/Summer-Camp-2025-Whatsapp-2.png
ORGANIZER;CN="tlvcitykids":MAILTO:programs@tlvcitykids.co.il
END:VEVENT
BEGIN:VEVENT
DTSTART;TZID=Asia/Jerusalem:20250813T083000
DTEND;TZID=Asia/Jerusalem:20250813T160000
DTSTAMP:20260420T120551
CREATED:20250707T141900Z
LAST-MODIFIED:20250707T141900Z
UID:10000730-1755073800-1755100800@tlvcitykids.co.il
SUMMARY:CityKids Summer Camp
DESCRIPTION:Our camp offers a vibrant\, inclusive\, and English-speaking environment where children grow in confidence and self-esteem through playful and meaningful experiences. Each day is filled with exciting\, hands-on activities designed to spark curiosity\, foster creativity\, and promote teamwork.\nFrom movement and music to art\, cooking\, science\, outdoor adventures\, and more\, our program challenges campers in fun and engaging ways—helping them discover the joy of learning and the pride of personal accomplishment. \nCamp is suitable for children ages 3.5-10 \nAll children who attend camp are required to be completely potty trained and verbal (English) to maximize their experience
URL:https://tlvcitykids.co.il/event/citykids-summer-camp/2025-08-13/
LOCATION:CityKids Hadar Yosef\, Kehilat Varsha 10\, Tel Aviv\, Israel
ATTACH;FMTTYPE=image/png:https://tlvcitykids.co.il/wp-content/uploads/2025/07/Summer-Camp-2025-Whatsapp-2.png
ORGANIZER;CN="tlvcitykids":MAILTO:programs@tlvcitykids.co.il
END:VEVENT
BEGIN:VEVENT
DTSTART;TZID=Asia/Jerusalem:20250814T083000
DTEND;TZID=Asia/Jerusalem:20250814T160000
DTSTAMP:20260420T120551
CREATED:20250707T141900Z
LAST-MODIFIED:20250707T141900Z
UID:10000731-1755160200-1755187200@tlvcitykids.co.il
SUMMARY:CityKids Summer Camp
DESCRIPTION:Our camp offers a vibrant\, inclusive\, and English-speaking environment where children grow in confidence and self-esteem through playful and meaningful experiences. Each day is filled with exciting\, hands-on activities designed to spark curiosity\, foster creativity\, and promote teamwork.\nFrom movement and music to art\, cooking\, science\, outdoor adventures\, and more\, our program challenges campers in fun and engaging ways—helping them discover the joy of learning and the pride of personal accomplishment. \nCamp is suitable for children ages 3.5-10 \nAll children who attend camp are required to be completely potty trained and verbal (English) to maximize their experience
URL:https://tlvcitykids.co.il/event/citykids-summer-camp/2025-08-14/
LOCATION:CityKids Hadar Yosef\, Kehilat Varsha 10\, Tel Aviv\, Israel
ATTACH;FMTTYPE=image/png:https://tlvcitykids.co.il/wp-content/uploads/2025/07/Summer-Camp-2025-Whatsapp-2.png
ORGANIZER;CN="tlvcitykids":MAILTO:programs@tlvcitykids.co.il
END:VEVENT
BEGIN:VEVENT
DTSTART;TZID=Asia/Jerusalem:20250817T083000
DTEND;TZID=Asia/Jerusalem:20250817T160000
DTSTAMP:20260420T120551
CREATED:20250707T141900Z
LAST-MODIFIED:20250707T141900Z
UID:10000732-1755419400-1755446400@tlvcitykids.co.il
SUMMARY:CityKids Summer Camp
DESCRIPTION:Our camp offers a vibrant\, inclusive\, and English-speaking environment where children grow in confidence and self-esteem through playful and meaningful experiences. Each day is filled with exciting\, hands-on activities designed to spark curiosity\, foster creativity\, and promote teamwork.\nFrom movement and music to art\, cooking\, science\, outdoor adventures\, and more\, our program challenges campers in fun and engaging ways—helping them discover the joy of learning and the pride of personal accomplishment. \nCamp is suitable for children ages 3.5-10 \nAll children who attend camp are required to be completely potty trained and verbal (English) to maximize their experience
URL:https://tlvcitykids.co.il/event/citykids-summer-camp/2025-08-17/
LOCATION:CityKids Hadar Yosef\, Kehilat Varsha 10\, Tel Aviv\, Israel
ATTACH;FMTTYPE=image/png:https://tlvcitykids.co.il/wp-content/uploads/2025/07/Summer-Camp-2025-Whatsapp-2.png
ORGANIZER;CN="tlvcitykids":MAILTO:programs@tlvcitykids.co.il
END:VEVENT
BEGIN:VEVENT
DTSTART;TZID=Asia/Jerusalem:20250818T083000
DTEND;TZID=Asia/Jerusalem:20250818T160000
DTSTAMP:20260420T120551
CREATED:20250707T141900Z
LAST-MODIFIED:20250707T141900Z
UID:10000733-1755505800-1755532800@tlvcitykids.co.il
SUMMARY:CityKids Summer Camp
DESCRIPTION:Our camp offers a vibrant\, inclusive\, and English-speaking environment where children grow in confidence and self-esteem through playful and meaningful experiences. Each day is filled with exciting\, hands-on activities designed to spark curiosity\, foster creativity\, and promote teamwork.\nFrom movement and music to art\, cooking\, science\, outdoor adventures\, and more\, our program challenges campers in fun and engaging ways—helping them discover the joy of learning and the pride of personal accomplishment. \nCamp is suitable for children ages 3.5-10 \nAll children who attend camp are required to be completely potty trained and verbal (English) to maximize their experience
URL:https://tlvcitykids.co.il/event/citykids-summer-camp/2025-08-18/
LOCATION:CityKids Hadar Yosef\, Kehilat Varsha 10\, Tel Aviv\, Israel
ATTACH;FMTTYPE=image/png:https://tlvcitykids.co.il/wp-content/uploads/2025/07/Summer-Camp-2025-Whatsapp-2.png
ORGANIZER;CN="tlvcitykids":MAILTO:programs@tlvcitykids.co.il
END:VEVENT
BEGIN:VEVENT
DTSTART;TZID=Asia/Jerusalem:20250819T083000
DTEND;TZID=Asia/Jerusalem:20250819T160000
DTSTAMP:20260420T120551
CREATED:20250707T141900Z
LAST-MODIFIED:20250707T141900Z
UID:10000734-1755592200-1755619200@tlvcitykids.co.il
SUMMARY:CityKids Summer Camp
DESCRIPTION:Our camp offers a vibrant\, inclusive\, and English-speaking environment where children grow in confidence and self-esteem through playful and meaningful experiences. Each day is filled with exciting\, hands-on activities designed to spark curiosity\, foster creativity\, and promote teamwork.\nFrom movement and music to art\, cooking\, science\, outdoor adventures\, and more\, our program challenges campers in fun and engaging ways—helping them discover the joy of learning and the pride of personal accomplishment. \nCamp is suitable for children ages 3.5-10 \nAll children who attend camp are required to be completely potty trained and verbal (English) to maximize their experience
URL:https://tlvcitykids.co.il/event/citykids-summer-camp/2025-08-19/
LOCATION:CityKids Hadar Yosef\, Kehilat Varsha 10\, Tel Aviv\, Israel
ATTACH;FMTTYPE=image/png:https://tlvcitykids.co.il/wp-content/uploads/2025/07/Summer-Camp-2025-Whatsapp-2.png
ORGANIZER;CN="tlvcitykids":MAILTO:programs@tlvcitykids.co.il
END:VEVENT
BEGIN:VEVENT
DTSTART;TZID=Asia/Jerusalem:20250820T083000
DTEND;TZID=Asia/Jerusalem:20250820T160000
DTSTAMP:20260420T120551
CREATED:20250707T141900Z
LAST-MODIFIED:20250707T141900Z
UID:10000735-1755678600-1755705600@tlvcitykids.co.il
SUMMARY:CityKids Summer Camp
DESCRIPTION:Our camp offers a vibrant\, inclusive\, and English-speaking environment where children grow in confidence and self-esteem through playful and meaningful experiences. Each day is filled with exciting\, hands-on activities designed to spark curiosity\, foster creativity\, and promote teamwork.\nFrom movement and music to art\, cooking\, science\, outdoor adventures\, and more\, our program challenges campers in fun and engaging ways—helping them discover the joy of learning and the pride of personal accomplishment. \nCamp is suitable for children ages 3.5-10 \nAll children who attend camp are required to be completely potty trained and verbal (English) to maximize their experience
URL:https://tlvcitykids.co.il/event/citykids-summer-camp/2025-08-20/
LOCATION:CityKids Hadar Yosef\, Kehilat Varsha 10\, Tel Aviv\, Israel
ATTACH;FMTTYPE=image/png:https://tlvcitykids.co.il/wp-content/uploads/2025/07/Summer-Camp-2025-Whatsapp-2.png
ORGANIZER;CN="tlvcitykids":MAILTO:programs@tlvcitykids.co.il
END:VEVENT
BEGIN:VEVENT
DTSTART;TZID=Asia/Jerusalem:20250821T083000
DTEND;TZID=Asia/Jerusalem:20250821T160000
DTSTAMP:20260420T120551
CREATED:20250707T141900Z
LAST-MODIFIED:20250707T141900Z
UID:10000736-1755765000-1755792000@tlvcitykids.co.il
SUMMARY:CityKids Summer Camp
DESCRIPTION:Our camp offers a vibrant\, inclusive\, and English-speaking environment where children grow in confidence and self-esteem through playful and meaningful experiences. Each day is filled with exciting\, hands-on activities designed to spark curiosity\, foster creativity\, and promote teamwork.\nFrom movement and music to art\, cooking\, science\, outdoor adventures\, and more\, our program challenges campers in fun and engaging ways—helping them discover the joy of learning and the pride of personal accomplishment. \nCamp is suitable for children ages 3.5-10 \nAll children who attend camp are required to be completely potty trained and verbal (English) to maximize their experience
URL:https://tlvcitykids.co.il/event/citykids-summer-camp/2025-08-21/
LOCATION:CityKids Hadar Yosef\, Kehilat Varsha 10\, Tel Aviv\, Israel
ATTACH;FMTTYPE=image/png:https://tlvcitykids.co.il/wp-content/uploads/2025/07/Summer-Camp-2025-Whatsapp-2.png
ORGANIZER;CN="tlvcitykids":MAILTO:programs@tlvcitykids.co.il
END:VEVENT
END:VCALENDAR